BEGIN:VCALENDAR
VERSION:2.0
METHOD:PUBLISH
PRODID:-//ActiveDataExchange/NEXTGEN V1//EN
BEGIN:VEVENT
ORGANIZER:mailto:clubs@johncabot.edu
DTSTART:20260423T160000Z
DTEND:20260423T180000Z
DTSTAMP:20260422T172041Z
LOCATION:F.G.3 Frohring Campus Rome  00153
SUMMARY:Film Appreciation Club Farewell Party
DESCRIPTION:Come join the Film Appreciation Club and friends to celebrat
 e the hard work and dedication our seniors put into the clu
 b and say goodbye! We will be screening The Muppets and wil
 l be providing food and drinks! We hope to see you guys the
 re so we can say goodbye to our graduating seniors!\nView the full event details here: https://calendar.johncabot.edu/event/film-appreciation-club-farewell-party/
CATEGORIES:Clubs &amp; Organizations, JCU Community Events, Student Life Activity
CONTACT:Clubs,clubs@johncabot.edu,254
CLASS:PUBLIC
UID:D36208EE-7923-464D-86F9-D3EBF38D1C43
BEGIN:VALARM
TRIGGER:-PT15M
ACTION:DISPLAY
DESCRIPTION:Film Appreciation Club Farewell Party
END:VALARM
END:VEVENT
END:VCALENDAR
